BEGIN:VCALENDAR
VERSION:2.0
PRODID:-//Grace Christian Fellowship, Largo FL - ECPv6.15.20//NONSGML v1.0//EN
CALSCALE:GREGORIAN
METHOD:PUBLISH
X-WR-CALNAME:Grace Christian Fellowship, Largo FL
X-ORIGINAL-URL:https://gracechristian.com
X-WR-CALDESC:Events for Grace Christian Fellowship, Largo FL
REFRESH-INTERVAL;VALUE=DURATION:PT1H
X-Robots-Tag:noindex
X-PUBLISHED-TTL:PT1H
BEGIN:VTIMEZONE
TZID:America/New_York
BEGIN:DAYLIGHT
TZOFFSETFROM:-0500
TZOFFSETTO:-0400
TZNAME:EDT
DTSTART:20250309T070000
END:DAYLIGHT
BEGIN:STANDARD
TZOFFSETFROM:-0400
TZOFFSETTO:-0500
TZNAME:EST
DTSTART:20251102T060000
END:STANDARD
BEGIN:DAYLIGHT
TZOFFSETFROM:-0500
TZOFFSETTO:-0400
TZNAME:EDT
DTSTART:20260308T070000
END:DAYLIGHT
BEGIN:STANDARD
TZOFFSETFROM:-0400
TZOFFSETTO:-0500
TZNAME:EST
DTSTART:20261101T060000
END:STANDARD
BEGIN:DAYLIGHT
TZOFFSETFROM:-0500
TZOFFSETTO:-0400
TZNAME:EDT
DTSTART:20270314T070000
END:DAYLIGHT
BEGIN:STANDARD
TZOFFSETFROM:-0400
TZOFFSETTO:-0500
TZNAME:EST
DTSTART:20271107T060000
END:STANDARD
END:VTIMEZONE
BEGIN:VEVENT
DTSTART;TZID=America/New_York:20260421T093000
DTEND;TZID=America/New_York:20260421T103000
DTSTAMP:20260420T091955
CREATED:20260204T172702Z
LAST-MODIFIED:20260210T140500Z
UID:10000797-1776763800-1776767400@gracechristian.com
SUMMARY:Tuesday Morning Bible Study
DESCRIPTION:Join us on Tuesday mornings at 9:30am for a running Bible study. This is open to anyone and is a relaxed environment to engage with God’s word. \nThe study is typically taught be Pastor Lucas.
URL:https://gracechristian.com/event/tuesday-morning-bible-study/2026-04-21/
ATTACH;FMTTYPE=image/jpeg:https://gracechristian.com/wp-content/uploads/2026/02/IMG_1463.jpeg
END:VEVENT
BEGIN:VEVENT
DTSTART;TZID=America/New_York:20260428T093000
DTEND;TZID=America/New_York:20260428T103000
DTSTAMP:20260420T091955
CREATED:20260204T172702Z
LAST-MODIFIED:20260210T140500Z
UID:10000798-1777368600-1777372200@gracechristian.com
SUMMARY:Tuesday Morning Bible Study
DESCRIPTION:Join us on Tuesday mornings at 9:30am for a running Bible study. This is open to anyone and is a relaxed environment to engage with God’s word. \nThe study is typically taught be Pastor Lucas.
URL:https://gracechristian.com/event/tuesday-morning-bible-study/2026-04-28/
ATTACH;FMTTYPE=image/jpeg:https://gracechristian.com/wp-content/uploads/2026/02/IMG_1463.jpeg
END:VEVENT
BEGIN:VEVENT
DTSTART;TZID=America/New_York:20260505T093000
DTEND;TZID=America/New_York:20260505T103000
DTSTAMP:20260420T091955
CREATED:20260204T172702Z
LAST-MODIFIED:20260210T140500Z
UID:10000799-1777973400-1777977000@gracechristian.com
SUMMARY:Tuesday Morning Bible Study
DESCRIPTION:Join us on Tuesday mornings at 9:30am for a running Bible study. This is open to anyone and is a relaxed environment to engage with God’s word. \nThe study is typically taught be Pastor Lucas.
URL:https://gracechristian.com/event/tuesday-morning-bible-study/2026-05-05/
ATTACH;FMTTYPE=image/jpeg:https://gracechristian.com/wp-content/uploads/2026/02/IMG_1463.jpeg
END:VEVENT
BEGIN:VEVENT
DTSTART;TZID=America/New_York:20260512T093000
DTEND;TZID=America/New_York:20260512T103000
DTSTAMP:20260420T091955
CREATED:20260204T172702Z
LAST-MODIFIED:20260210T140500Z
UID:10000800-1778578200-1778581800@gracechristian.com
SUMMARY:Tuesday Morning Bible Study
DESCRIPTION:Join us on Tuesday mornings at 9:30am for a running Bible study. This is open to anyone and is a relaxed environment to engage with God’s word. \nThe study is typically taught be Pastor Lucas.
URL:https://gracechristian.com/event/tuesday-morning-bible-study/2026-05-12/
ATTACH;FMTTYPE=image/jpeg:https://gracechristian.com/wp-content/uploads/2026/02/IMG_1463.jpeg
END:VEVENT
BEGIN:VEVENT
DTSTART;TZID=America/New_York:20260519T093000
DTEND;TZID=America/New_York:20260519T103000
DTSTAMP:20260420T091955
CREATED:20260204T172702Z
LAST-MODIFIED:20260210T140500Z
UID:10000801-1779183000-1779186600@gracechristian.com
SUMMARY:Tuesday Morning Bible Study
DESCRIPTION:Join us on Tuesday mornings at 9:30am for a running Bible study. This is open to anyone and is a relaxed environment to engage with God’s word. \nThe study is typically taught be Pastor Lucas.
URL:https://gracechristian.com/event/tuesday-morning-bible-study/2026-05-19/
ATTACH;FMTTYPE=image/jpeg:https://gracechristian.com/wp-content/uploads/2026/02/IMG_1463.jpeg
END:VEVENT
BEGIN:VEVENT
DTSTART;TZID=America/New_York:20260526T093000
DTEND;TZID=America/New_York:20260526T103000
DTSTAMP:20260420T091955
CREATED:20260204T172702Z
LAST-MODIFIED:20260210T140500Z
UID:10000802-1779787800-1779791400@gracechristian.com
SUMMARY:Tuesday Morning Bible Study
DESCRIPTION:Join us on Tuesday mornings at 9:30am for a running Bible study. This is open to anyone and is a relaxed environment to engage with God’s word. \nThe study is typically taught be Pastor Lucas.
URL:https://gracechristian.com/event/tuesday-morning-bible-study/2026-05-26/
ATTACH;FMTTYPE=image/jpeg:https://gracechristian.com/wp-content/uploads/2026/02/IMG_1463.jpeg
END:VEVENT
BEGIN:VEVENT
DTSTART;TZID=America/New_York:20260602T093000
DTEND;TZID=America/New_York:20260602T103000
DTSTAMP:20260420T091955
CREATED:20260204T172702Z
LAST-MODIFIED:20260210T140500Z
UID:10000803-1780392600-1780396200@gracechristian.com
SUMMARY:Tuesday Morning Bible Study
DESCRIPTION:Join us on Tuesday mornings at 9:30am for a running Bible study. This is open to anyone and is a relaxed environment to engage with God’s word. \nThe study is typically taught be Pastor Lucas.
URL:https://gracechristian.com/event/tuesday-morning-bible-study/2026-06-02/
ATTACH;FMTTYPE=image/jpeg:https://gracechristian.com/wp-content/uploads/2026/02/IMG_1463.jpeg
END:VEVENT
BEGIN:VEVENT
DTSTART;TZID=America/New_York:20260609T093000
DTEND;TZID=America/New_York:20260609T103000
DTSTAMP:20260420T091955
CREATED:20260204T172702Z
LAST-MODIFIED:20260210T140500Z
UID:10000804-1780997400-1781001000@gracechristian.com
SUMMARY:Tuesday Morning Bible Study
DESCRIPTION:Join us on Tuesday mornings at 9:30am for a running Bible study. This is open to anyone and is a relaxed environment to engage with God’s word. \nThe study is typically taught be Pastor Lucas.
URL:https://gracechristian.com/event/tuesday-morning-bible-study/2026-06-09/
ATTACH;FMTTYPE=image/jpeg:https://gracechristian.com/wp-content/uploads/2026/02/IMG_1463.jpeg
END:VEVENT
BEGIN:VEVENT
DTSTART;TZID=America/New_York:20260616T093000
DTEND;TZID=America/New_York:20260616T103000
DTSTAMP:20260420T091955
CREATED:20260204T172702Z
LAST-MODIFIED:20260210T140500Z
UID:10000805-1781602200-1781605800@gracechristian.com
SUMMARY:Tuesday Morning Bible Study
DESCRIPTION:Join us on Tuesday mornings at 9:30am for a running Bible study. This is open to anyone and is a relaxed environment to engage with God’s word. \nThe study is typically taught be Pastor Lucas.
URL:https://gracechristian.com/event/tuesday-morning-bible-study/2026-06-16/
ATTACH;FMTTYPE=image/jpeg:https://gracechristian.com/wp-content/uploads/2026/02/IMG_1463.jpeg
END:VEVENT
BEGIN:VEVENT
DTSTART;TZID=America/New_York:20260623T093000
DTEND;TZID=America/New_York:20260623T103000
DTSTAMP:20260420T091955
CREATED:20260204T172702Z
LAST-MODIFIED:20260210T140500Z
UID:10000806-1782207000-1782210600@gracechristian.com
SUMMARY:Tuesday Morning Bible Study
DESCRIPTION:Join us on Tuesday mornings at 9:30am for a running Bible study. This is open to anyone and is a relaxed environment to engage with God’s word. \nThe study is typically taught be Pastor Lucas.
URL:https://gracechristian.com/event/tuesday-morning-bible-study/2026-06-23/
ATTACH;FMTTYPE=image/jpeg:https://gracechristian.com/wp-content/uploads/2026/02/IMG_1463.jpeg
END:VEVENT
BEGIN:VEVENT
DTSTART;TZID=America/New_York:20260630T093000
DTEND;TZID=America/New_York:20260630T103000
DTSTAMP:20260420T091955
CREATED:20260204T172702Z
LAST-MODIFIED:20260210T140500Z
UID:10000807-1782811800-1782815400@gracechristian.com
SUMMARY:Tuesday Morning Bible Study
DESCRIPTION:Join us on Tuesday mornings at 9:30am for a running Bible study. This is open to anyone and is a relaxed environment to engage with God’s word. \nThe study is typically taught be Pastor Lucas.
URL:https://gracechristian.com/event/tuesday-morning-bible-study/2026-06-30/
ATTACH;FMTTYPE=image/jpeg:https://gracechristian.com/wp-content/uploads/2026/02/IMG_1463.jpeg
END:VEVENT
BEGIN:VEVENT
DTSTART;TZID=America/New_York:20260707T093000
DTEND;TZID=America/New_York:20260707T103000
DTSTAMP:20260420T091955
CREATED:20260204T172702Z
LAST-MODIFIED:20260210T140500Z
UID:10000808-1783416600-1783420200@gracechristian.com
SUMMARY:Tuesday Morning Bible Study
DESCRIPTION:Join us on Tuesday mornings at 9:30am for a running Bible study. This is open to anyone and is a relaxed environment to engage with God’s word. \nThe study is typically taught be Pastor Lucas.
URL:https://gracechristian.com/event/tuesday-morning-bible-study/2026-07-07/
ATTACH;FMTTYPE=image/jpeg:https://gracechristian.com/wp-content/uploads/2026/02/IMG_1463.jpeg
END:VEVENT
BEGIN:VEVENT
DTSTART;TZID=America/New_York:20260714T093000
DTEND;TZID=America/New_York:20260714T103000
DTSTAMP:20260420T091955
CREATED:20260204T172702Z
LAST-MODIFIED:20260210T140500Z
UID:10000809-1784021400-1784025000@gracechristian.com
SUMMARY:Tuesday Morning Bible Study
DESCRIPTION:Join us on Tuesday mornings at 9:30am for a running Bible study. This is open to anyone and is a relaxed environment to engage with God’s word. \nThe study is typically taught be Pastor Lucas.
URL:https://gracechristian.com/event/tuesday-morning-bible-study/2026-07-14/
ATTACH;FMTTYPE=image/jpeg:https://gracechristian.com/wp-content/uploads/2026/02/IMG_1463.jpeg
END:VEVENT
BEGIN:VEVENT
DTSTART;TZID=America/New_York:20260721T093000
DTEND;TZID=America/New_York:20260721T103000
DTSTAMP:20260420T091955
CREATED:20260204T172702Z
LAST-MODIFIED:20260210T140500Z
UID:10000810-1784626200-1784629800@gracechristian.com
SUMMARY:Tuesday Morning Bible Study
DESCRIPTION:Join us on Tuesday mornings at 9:30am for a running Bible study. This is open to anyone and is a relaxed environment to engage with God’s word. \nThe study is typically taught be Pastor Lucas.
URL:https://gracechristian.com/event/tuesday-morning-bible-study/2026-07-21/
ATTACH;FMTTYPE=image/jpeg:https://gracechristian.com/wp-content/uploads/2026/02/IMG_1463.jpeg
END:VEVENT
BEGIN:VEVENT
DTSTART;TZID=America/New_York:20260728T093000
DTEND;TZID=America/New_York:20260728T103000
DTSTAMP:20260420T091955
CREATED:20260204T172702Z
LAST-MODIFIED:20260210T140500Z
UID:10000811-1785231000-1785234600@gracechristian.com
SUMMARY:Tuesday Morning Bible Study
DESCRIPTION:Join us on Tuesday mornings at 9:30am for a running Bible study. This is open to anyone and is a relaxed environment to engage with God’s word. \nThe study is typically taught be Pastor Lucas.
URL:https://gracechristian.com/event/tuesday-morning-bible-study/2026-07-28/
ATTACH;FMTTYPE=image/jpeg:https://gracechristian.com/wp-content/uploads/2026/02/IMG_1463.jpeg
END:VEVENT
BEGIN:VEVENT
DTSTART;TZID=America/New_York:20260804T093000
DTEND;TZID=America/New_York:20260804T103000
DTSTAMP:20260420T091955
CREATED:20260204T172702Z
LAST-MODIFIED:20260210T140500Z
UID:10000812-1785835800-1785839400@gracechristian.com
SUMMARY:Tuesday Morning Bible Study
DESCRIPTION:Join us on Tuesday mornings at 9:30am for a running Bible study. This is open to anyone and is a relaxed environment to engage with God’s word. \nThe study is typically taught be Pastor Lucas.
URL:https://gracechristian.com/event/tuesday-morning-bible-study/2026-08-04/
ATTACH;FMTTYPE=image/jpeg:https://gracechristian.com/wp-content/uploads/2026/02/IMG_1463.jpeg
END:VEVENT
BEGIN:VEVENT
DTSTART;TZID=America/New_York:20260811T093000
DTEND;TZID=America/New_York:20260811T103000
DTSTAMP:20260420T091955
CREATED:20260204T172702Z
LAST-MODIFIED:20260210T140500Z
UID:10000813-1786440600-1786444200@gracechristian.com
SUMMARY:Tuesday Morning Bible Study
DESCRIPTION:Join us on Tuesday mornings at 9:30am for a running Bible study. This is open to anyone and is a relaxed environment to engage with God’s word. \nThe study is typically taught be Pastor Lucas.
URL:https://gracechristian.com/event/tuesday-morning-bible-study/2026-08-11/
ATTACH;FMTTYPE=image/jpeg:https://gracechristian.com/wp-content/uploads/2026/02/IMG_1463.jpeg
END:VEVENT
BEGIN:VEVENT
DTSTART;TZID=America/New_York:20260818T093000
DTEND;TZID=America/New_York:20260818T103000
DTSTAMP:20260420T091955
CREATED:20260204T172702Z
LAST-MODIFIED:20260210T140500Z
UID:10000814-1787045400-1787049000@gracechristian.com
SUMMARY:Tuesday Morning Bible Study
DESCRIPTION:Join us on Tuesday mornings at 9:30am for a running Bible study. This is open to anyone and is a relaxed environment to engage with God’s word. \nThe study is typically taught be Pastor Lucas.
URL:https://gracechristian.com/event/tuesday-morning-bible-study/2026-08-18/
ATTACH;FMTTYPE=image/jpeg:https://gracechristian.com/wp-content/uploads/2026/02/IMG_1463.jpeg
END:VEVENT
BEGIN:VEVENT
DTSTART;TZID=America/New_York:20260825T093000
DTEND;TZID=America/New_York:20260825T103000
DTSTAMP:20260420T091955
CREATED:20260204T172702Z
LAST-MODIFIED:20260210T140500Z
UID:10000815-1787650200-1787653800@gracechristian.com
SUMMARY:Tuesday Morning Bible Study
DESCRIPTION:Join us on Tuesday mornings at 9:30am for a running Bible study. This is open to anyone and is a relaxed environment to engage with God’s word. \nThe study is typically taught be Pastor Lucas.
URL:https://gracechristian.com/event/tuesday-morning-bible-study/2026-08-25/
ATTACH;FMTTYPE=image/jpeg:https://gracechristian.com/wp-content/uploads/2026/02/IMG_1463.jpeg
END:VEVENT
BEGIN:VEVENT
DTSTART;TZID=America/New_York:20260901T093000
DTEND;TZID=America/New_York:20260901T103000
DTSTAMP:20260420T091955
CREATED:20260204T172702Z
LAST-MODIFIED:20260210T140500Z
UID:10000816-1788255000-1788258600@gracechristian.com
SUMMARY:Tuesday Morning Bible Study
DESCRIPTION:Join us on Tuesday mornings at 9:30am for a running Bible study. This is open to anyone and is a relaxed environment to engage with God’s word. \nThe study is typically taught be Pastor Lucas.
URL:https://gracechristian.com/event/tuesday-morning-bible-study/2026-09-01/
ATTACH;FMTTYPE=image/jpeg:https://gracechristian.com/wp-content/uploads/2026/02/IMG_1463.jpeg
END:VEVENT
BEGIN:VEVENT
DTSTART;TZID=America/New_York:20260908T093000
DTEND;TZID=America/New_York:20260908T103000
DTSTAMP:20260420T091955
CREATED:20260204T172702Z
LAST-MODIFIED:20260210T140500Z
UID:10000817-1788859800-1788863400@gracechristian.com
SUMMARY:Tuesday Morning Bible Study
DESCRIPTION:Join us on Tuesday mornings at 9:30am for a running Bible study. This is open to anyone and is a relaxed environment to engage with God’s word. \nThe study is typically taught be Pastor Lucas.
URL:https://gracechristian.com/event/tuesday-morning-bible-study/2026-09-08/
ATTACH;FMTTYPE=image/jpeg:https://gracechristian.com/wp-content/uploads/2026/02/IMG_1463.jpeg
END:VEVENT
BEGIN:VEVENT
DTSTART;TZID=America/New_York:20260915T093000
DTEND;TZID=America/New_York:20260915T103000
DTSTAMP:20260420T091955
CREATED:20260204T172702Z
LAST-MODIFIED:20260210T140500Z
UID:10000818-1789464600-1789468200@gracechristian.com
SUMMARY:Tuesday Morning Bible Study
DESCRIPTION:Join us on Tuesday mornings at 9:30am for a running Bible study. This is open to anyone and is a relaxed environment to engage with God’s word. \nThe study is typically taught be Pastor Lucas.
URL:https://gracechristian.com/event/tuesday-morning-bible-study/2026-09-15/
ATTACH;FMTTYPE=image/jpeg:https://gracechristian.com/wp-content/uploads/2026/02/IMG_1463.jpeg
END:VEVENT
BEGIN:VEVENT
DTSTART;TZID=America/New_York:20260922T093000
DTEND;TZID=America/New_York:20260922T103000
DTSTAMP:20260420T091955
CREATED:20260204T172702Z
LAST-MODIFIED:20260210T140500Z
UID:10000819-1790069400-1790073000@gracechristian.com
SUMMARY:Tuesday Morning Bible Study
DESCRIPTION:Join us on Tuesday mornings at 9:30am for a running Bible study. This is open to anyone and is a relaxed environment to engage with God’s word. \nThe study is typically taught be Pastor Lucas.
URL:https://gracechristian.com/event/tuesday-morning-bible-study/2026-09-22/
ATTACH;FMTTYPE=image/jpeg:https://gracechristian.com/wp-content/uploads/2026/02/IMG_1463.jpeg
END:VEVENT
BEGIN:VEVENT
DTSTART;TZID=America/New_York:20260929T093000
DTEND;TZID=America/New_York:20260929T103000
DTSTAMP:20260420T091955
CREATED:20260204T172702Z
LAST-MODIFIED:20260210T140500Z
UID:10000820-1790674200-1790677800@gracechristian.com
SUMMARY:Tuesday Morning Bible Study
DESCRIPTION:Join us on Tuesday mornings at 9:30am for a running Bible study. This is open to anyone and is a relaxed environment to engage with God’s word. \nThe study is typically taught be Pastor Lucas.
URL:https://gracechristian.com/event/tuesday-morning-bible-study/2026-09-29/
ATTACH;FMTTYPE=image/jpeg:https://gracechristian.com/wp-content/uploads/2026/02/IMG_1463.jpeg
END:VEVENT
BEGIN:VEVENT
DTSTART;TZID=America/New_York:20261006T093000
DTEND;TZID=America/New_York:20261006T103000
DTSTAMP:20260420T091955
CREATED:20260204T172702Z
LAST-MODIFIED:20260210T140500Z
UID:10000821-1791279000-1791282600@gracechristian.com
SUMMARY:Tuesday Morning Bible Study
DESCRIPTION:Join us on Tuesday mornings at 9:30am for a running Bible study. This is open to anyone and is a relaxed environment to engage with God’s word. \nThe study is typically taught be Pastor Lucas.
URL:https://gracechristian.com/event/tuesday-morning-bible-study/2026-10-06/
ATTACH;FMTTYPE=image/jpeg:https://gracechristian.com/wp-content/uploads/2026/02/IMG_1463.jpeg
END:VEVENT
BEGIN:VEVENT
DTSTART;TZID=America/New_York:20261013T093000
DTEND;TZID=America/New_York:20261013T103000
DTSTAMP:20260420T091955
CREATED:20260204T172702Z
LAST-MODIFIED:20260210T140500Z
UID:10000822-1791883800-1791887400@gracechristian.com
SUMMARY:Tuesday Morning Bible Study
DESCRIPTION:Join us on Tuesday mornings at 9:30am for a running Bible study. This is open to anyone and is a relaxed environment to engage with God’s word. \nThe study is typically taught be Pastor Lucas.
URL:https://gracechristian.com/event/tuesday-morning-bible-study/2026-10-13/
ATTACH;FMTTYPE=image/jpeg:https://gracechristian.com/wp-content/uploads/2026/02/IMG_1463.jpeg
END:VEVENT
BEGIN:VEVENT
DTSTART;TZID=America/New_York:20261020T093000
DTEND;TZID=America/New_York:20261020T103000
DTSTAMP:20260420T091955
CREATED:20260204T172702Z
LAST-MODIFIED:20260210T140500Z
UID:10000823-1792488600-1792492200@gracechristian.com
SUMMARY:Tuesday Morning Bible Study
DESCRIPTION:Join us on Tuesday mornings at 9:30am for a running Bible study. This is open to anyone and is a relaxed environment to engage with God’s word. \nThe study is typically taught be Pastor Lucas.
URL:https://gracechristian.com/event/tuesday-morning-bible-study/2026-10-20/
ATTACH;FMTTYPE=image/jpeg:https://gracechristian.com/wp-content/uploads/2026/02/IMG_1463.jpeg
END:VEVENT
BEGIN:VEVENT
DTSTART;TZID=America/New_York:20261027T093000
DTEND;TZID=America/New_York:20261027T103000
DTSTAMP:20260420T091955
CREATED:20260204T172702Z
LAST-MODIFIED:20260210T140500Z
UID:10000824-1793093400-1793097000@gracechristian.com
SUMMARY:Tuesday Morning Bible Study
DESCRIPTION:Join us on Tuesday mornings at 9:30am for a running Bible study. This is open to anyone and is a relaxed environment to engage with God’s word. \nThe study is typically taught be Pastor Lucas.
URL:https://gracechristian.com/event/tuesday-morning-bible-study/2026-10-27/
ATTACH;FMTTYPE=image/jpeg:https://gracechristian.com/wp-content/uploads/2026/02/IMG_1463.jpeg
END:VEVENT
BEGIN:VEVENT
DTSTART;TZID=America/New_York:20261103T093000
DTEND;TZID=America/New_York:20261103T103000
DTSTAMP:20260420T091955
CREATED:20260204T172702Z
LAST-MODIFIED:20260210T140500Z
UID:10000825-1793698200-1793701800@gracechristian.com
SUMMARY:Tuesday Morning Bible Study
DESCRIPTION:Join us on Tuesday mornings at 9:30am for a running Bible study. This is open to anyone and is a relaxed environment to engage with God’s word. \nThe study is typically taught be Pastor Lucas.
URL:https://gracechristian.com/event/tuesday-morning-bible-study/2026-11-03/
ATTACH;FMTTYPE=image/jpeg:https://gracechristian.com/wp-content/uploads/2026/02/IMG_1463.jpeg
END:VEVENT
BEGIN:VEVENT
DTSTART;TZID=America/New_York:20261110T093000
DTEND;TZID=America/New_York:20261110T103000
DTSTAMP:20260420T091955
CREATED:20260204T172702Z
LAST-MODIFIED:20260210T140500Z
UID:10000826-1794303000-1794306600@gracechristian.com
SUMMARY:Tuesday Morning Bible Study
DESCRIPTION:Join us on Tuesday mornings at 9:30am for a running Bible study. This is open to anyone and is a relaxed environment to engage with God’s word. \nThe study is typically taught be Pastor Lucas.
URL:https://gracechristian.com/event/tuesday-morning-bible-study/2026-11-10/
ATTACH;FMTTYPE=image/jpeg:https://gracechristian.com/wp-content/uploads/2026/02/IMG_1463.jpeg
END:VEVENT
END:VCALENDAR